BEGIN:VCALENDAR
VERSION:2.0
PRODID:https://github.com/derhansen/sf_event_mgt
METHOD:PUBLISH
BEGIN:VEVENT
UID:137-539@www.euroimmun.it
CLASS: PUBLIC
SUMMARY:2026 ADLM Annual Scientific Meeting &amp; Clinical Lab Expo
DESCRIPTION:<p><a href="https://meeting.myadlm.org/clinical-lab-expo" targe
 t="_blank" title="ADLM Website">Visit website</a></p>
LOCATION:Anaheim (US)
DTSTART:20260726T060000Z
DTEND:20260730T160000Z
END:VEVENT
END:VCALENDAR